BEGIN:VCALENDAR
PRODID:-//eluceo/ical//2.0/EN
VERSION:2.0
CALSCALE:GREGORIAN
BEGIN:VEVENT
UID:086c007252482a008ef1aecebfad9114
DTSTAMP:20260421T225356Z
SUMMARY:BeAware: Situational Awareness Training
DESCRIPTION:United Jewish Federation of Utah\nSecurity Trainings Calendar\n
 https://shalomutah.org/security-trainings-calendar/beaware-situational-awa
 reness-training-jan023\n\nBeAware\, SCN’s Introduction to Situational Aw
 areness Course\, seeks to build observation skills and will teach you best
  practice techniques to recognize and react to various situations in your 
 everyday life – from going to synagogue and dropping off children at sch
 ool\, to going to the gas station or an ATM. The course will cover the bas
 ics of situational awareness and how to help protect yourself\, your famil
 y\, and your community.  The training will last approximately one hour wi
 th time av...
DTSTART;TZID=America/Denver:20240123T190000
DTEND;TZID=America/Denver:20240123T210000
END:VEVENT
END:VCALENDAR
