BEGIN:VCALENDAR
PRODID:-//eluceo/ical//2.0/EN
VERSION:2.0
CALSCALE:GREGORIAN
BEGIN:VEVENT
UID:347ed2abb16f6a1c73b355b1542b9d09
DTSTAMP:20260421T051403Z
SUMMARY:Federation Security Town Hall
DESCRIPTION:United Jewish Federation of Utah\nSecurity Trainings Calendar\n
 https://shalomutah.org/security-trainings-calendar/federation-security-tow
 n-hall-452674\n\nJoin us as we introduce Dave McKean\, our new Jewish Comm
 unity Security Advisor\, and hear from our law enforcement partners who wi
 ll share updates from the field as well as information on what they're doi
 ng to keep our community safe. We are honored to have leaders from the Sum
 mit County Sheriff\, Salt Lake Police Department\, Secure Community Networ
 k\, FBI and the United States Attorney's office join us in conversation.\n
 \nFollowing the presentation\, for those who are interested\, Dave McKean 
 wil...
DTSTART;TZID=America/Denver:20231206T183000
DTEND;TZID=America/Denver:20231206T203000
END:VEVENT
END:VCALENDAR
