BEGIN:VCALENDAR
PRODID:-//eluceo/ical//2.0/EN
VERSION:2.0
CALSCALE:GREGORIAN
BEGIN:VEVENT
UID:b869f94c3db8d0176d3c1616921a9bfc
DTSTAMP:20260420T173755Z
SUMMARY:1st Day of Religious School
DESCRIPTION:United Jewish Federation of Utah\nCalendar\nhttps://shalomutah.
 org/united-jewish-federation-of-utah-calendar/1st-day-of-religious-school-
 1486492826\n\nCome join us for the first day of the 2017-2018 school year 
 at the Rafi Schwartz Religious School. See the teachers in action\, hear a
 bout plans for the school-year\, Q&A with the Director and the Rabbi. Late
  fee will be waived if you register on the first day of school.
DTSTART;TZID=America/Denver:20170910T090000
DTEND;TZID=America/Denver:20170910T120000
END:VEVENT
END:VCALENDAR
