BEGIN:VCALENDAR
PRODID:-//eluceo/ical//2.0/EN
VERSION:2.0
CALSCALE:GREGORIAN
BEGIN:VEVENT
UID:72a7ef5ee7b5888c0cbb9e34de1e5c4c
DTSTAMP:20260420T145419Z
SUMMARY:2016 National Israeli-American Conference
DESCRIPTION:United Jewish Federation of Utah\nCalendar\nhttps://shalomutah.
 org/united-jewish-federation-of-utah-calendar/2016-national-israeli-americ
 an-conference-1459988194\n\nThe National Israeli-American Conference is th
 e foremost annual gathering of the Israeli-American community.\n\nConferen
 ce participants join us for an inspired\, engaging three-day journey that 
 delves into the most critical issues facing the Israeli-American and Jewis
 h communities. They examine questions surrounding Israeli and Jewish ident
 ity and hear from world-renowned experts about the most pressing issues in
  global affairs. They explore cutting-edge educational opportunities for o
 ur child...
DTSTART;TZID=America/Denver:20160924T200000
DTEND;TZID=America/Denver:20160926T120000
END:VEVENT
END:VCALENDAR
