BEGIN:VCALENDAR
PRODID:-//eluceo/ical//2.0/EN
VERSION:2.0
CALSCALE:GREGORIAN
BEGIN:VEVENT
UID:4d74124e69d1d2ebee51840757c0d5a3
DTSTAMP:20260420T070816Z
SUMMARY:2017 Federation Summer Party
DESCRIPTION:United Jewish Federation of Utah\nCalendar\nhttps://shalomutah.
 org/united-jewish-federation-of-utah-calendar/2017-federation-summer-party
 \n\nPlease join us for a fun evening of BBQ dinner and live entertainment 
 at our 7th Annual Summer Party on Wednesday\, August 16th\, 6:00 pm at Jer
 emy Ranch Golf & Country Club\, 8770 Jeremy RD\, Park City\, UT 84098.\n\n
 Highlighting Federation’s Project 1460\, supporting Ethiopian-Israeli Hi
 gh School students\, with special guest speaker and recent Program 1460 gr
 aduate.\n\nCost is $65.00 per person.\n\nFood is gluten free and vegetaria
 n friendly.\n\nCowboy attire encouraged.\n\nPlease RSVP: https:...
DTSTART;TZID=America/Denver:20170816T180000
DTEND;TZID=America/Denver:20170816T210000
END:VEVENT
END:VCALENDAR
