BEGIN:VCALENDAR
PRODID:-//eluceo/ical//2.0/EN
VERSION:2.0
CALSCALE:GREGORIAN
BEGIN:VEVENT
UID:910a9ba60bdddce14b50059b119585ef
DTSTAMP:20260420T172206Z
SUMMARY:2019 AIPAC Utah Event
DESCRIPTION:United Jewish Federation of Utah\nCalendar\nhttps://shalomutah.
 org/united-jewish-federation-of-utah-calendar/2019-aipac-utah-event-153790
 5670\n\n2019 AIPAC Utah Event
DTSTART;TZID=America/Denver:20190221T183000
DTEND;TZID=America/Denver:20190221T203000
END:VEVENT
END:VCALENDAR
