BEGIN:VCALENDAR
PRODID:-//eluceo/ical//2.0/EN
VERSION:2.0
CALSCALE:GREGORIAN
BEGIN:VEVENT
UID:7523e6e11a364af9731bf20cf1a5e994
DTSTAMP:20260421T194436Z
SUMMARY:5th Annual Pride Seder
DESCRIPTION:United Jewish Federation of Utah\nCalendar\nhttps://shalomutah.
 org/united-jewish-federation-of-utah-calendar/5th-pride-seder\n\nJoin lesb
 ian\, gay\, bisexual\, transgender\, and queer Jews\, along with our famil
 ies and friends for a Seder to remember. \n\nZoom Registration: https://u
 s02web.zoom.us/meeting/register/tZ0kdeyqqTwoE9wgALZqFRnE7YNgJaYcyUei
DTSTART;TZID=America/Denver:20220418T183000
DTEND;TZID=America/Denver:20220418T203000
END:VEVENT
END:VCALENDAR
