BEGIN:VCALENDAR
PRODID:-//eluceo/ical//2.0/EN
VERSION:2.0
CALSCALE:GREGORIAN
BEGIN:VEVENT
UID:34ab9dea212187536b5bd09663809cf6
DTSTAMP:20260422T140433Z
SUMMARY:April Women's Dinner and Discussion: Menopause with Dr Jennifer A K
 nepper
DESCRIPTION:United Jewish Federation of Utah\nCalendar\nhttps://shalomutah.
 org/united-jewish-federation-of-utah-calendar/DinnerandDiscussion\n\nDr. 
 Jennifer Knepper has over 20 years of experience as a board-cert
 ified Internist. She is a former member of the Board of Governo
 rs at The Johns Hopkins Hospital Heart and Vascular Institute. D
 r. Knepper received her training while performing an internship a
 nd residency at Boston Medical Center. Previously\, she held posi
 tions as an Attending Physician in the Emergency Room as well a
 s attending and faculty positions at Harvar...
DTSTART;TZID=America/Denver:20250403T183000
DTEND;TZID=America/Denver:20250403T203000
END:VEVENT
END:VCALENDAR
