BEGIN:VCALENDAR
PRODID:-//eluceo/ical//2.0/EN
VERSION:2.0
CALSCALE:GREGORIAN
BEGIN:VEVENT
UID:e5c7a758f889be3ef4aa7d9aa0c0f4a2
DTSTAMP:20260421T194219Z
SUMMARY:Purim Family Potluck Dinner
DESCRIPTION:United Jewish Federation of Utah\nCalendar\nhttps://shalomutah.
 org/united-jewish-federation-of-utah-calendar/Event1\n\nVegetarian potluck
  dinner in celebration of Purim
DTSTART;TZID=America/Denver:20140315T173000
DTEND;TZID=America/Denver:20140315T183000
END:VEVENT
END:VCALENDAR
