BEGIN:VCALENDAR
PRODID:-//eluceo/ical//2.0/EN
VERSION:2.0
CALSCALE:GREGORIAN
BEGIN:VEVENT
UID:795a5d0c5996c261870f45a93f67546e
DTSTAMP:20260420T182419Z
SUMMARY:Koffee House
DESCRIPTION:United Jewish Federation of Utah\nCalendar\nhttps://shalomutah.
 org/united-jewish-federation-of-utah-calendar/Event11\n\nCome and share a 
 joyful time on the Kol Ami patio with supper\, personal roasts and music
DTSTART;TZID=America/Denver:20140622T190000
DTEND;TZID=America/Denver:20140622T220000
END:VEVENT
END:VCALENDAR
