BEGIN:VCALENDAR
PRODID:-//eluceo/ical//2.0/EN
VERSION:2.0
CALSCALE:GREGORIAN
BEGIN:VEVENT
UID:60ad66823752073637603006f6666a4f
DTSTAMP:20260420T182414Z
SUMMARY:Yom Hashoah - Holocaust Day of Remembrance
DESCRIPTION:United Jewish Federation of Utah\nCalendar\nhttps://shalomutah.
 org/united-jewish-federation-of-utah-calendar/Event12\n\nHolocaust Commemo
 ration at the JCC\, followed with Screening of the documentary movie Kinde
 rblock 66\, Return to Buchenwald. Q & A by father & son. On April 11\, 194
 5\, Buchenwald was liberated. Nearly 1\,000 boys survived. Sixty-five year
 s later\, on A
DTSTART;TZID=America/Denver:20140427T140000
DTEND;TZID=America/Denver:20140427T163000
END:VEVENT
END:VCALENDAR
