BEGIN:VCALENDAR
PRODID:-//eluceo/ical//2.0/EN
VERSION:2.0
CALSCALE:GREGORIAN
BEGIN:VEVENT
UID:dfd5a20b2a096056b5f2fa6908865b21
DTSTAMP:20260421T024324Z
SUMMARY:Yom Ha'atzmaut - Celebrating Israel's 66th Birthday
DESCRIPTION:United Jewish Federation of Utah\nCalendar\nhttps://shalomutah.
 org/united-jewish-federation-of-utah-calendar/Event13\n\nJOIN US IN CELEBR
 ATING iSRAEL'S 66TH BIRTHDAY at the JCC\, SLC. Lots of activities\, food a
 nd fun for young and old.Arts & Crafts\, Beer Garden\, Israeli food for pu
 rchase\, Israeli music\, family fun...Free and open to all.
DTSTART;TZID=America/Denver:20140504T120000
DTEND;TZID=America/Denver:20140504T150000
END:VEVENT
END:VCALENDAR
