BEGIN:VCALENDAR
PRODID:-//eluceo/ical//2.0/EN
VERSION:2.0
CALSCALE:GREGORIAN
BEGIN:VEVENT
UID:a24d6905a48fe7cc3e87c4635940c8f3
DTSTAMP:20260420T182439Z
SUMMARY:Israeli Scouts - Friendship Caravan Omer
DESCRIPTION:United Jewish Federation of Utah\nCalendar\nhttps://shalomutah.
 org/united-jewish-federation-of-utah-calendar/Event16\n\nThe United Jewish
  Federation of Utah invites you to come and enjoy the exciting and enterta
 ining Israeli Scouts performers. This song & dance troupe introduces Israe
 li culture and folklore in performances for audiences of all ages\, races 
 and religions
DTSTART;TZID=America/Denver:20140714T190000
DTEND;TZID=America/Denver:20140719T090000
END:VEVENT
END:VCALENDAR
