BEGIN:VCALENDAR
PRODID:-//eluceo/ical//2.0/EN
VERSION:2.0
CALSCALE:GREGORIAN
BEGIN:VEVENT
UID:45f8fd369d94c39568aa9938ed56ba71
DTSTAMP:20260421T024404Z
SUMMARY:United Jewish Federation of Utah Summer Party
DESCRIPTION:United Jewish Federation of Utah\nCalendar\nhttps://shalomutah.
 org/united-jewish-federation-of-utah-calendar/Event17\n\nJoin us in celebr
 ating summer with the United Jewish Federation of Utah at Louland Falls. G
 ood food\, music and friends. $54 per person with a minimum 2014 family Ca
 mpaign gift of $180 to the UJF of Utah. RSVP to Drora doren@shalomutah.org
  801-581-0102\, or
DTSTART;TZID=America/Denver:20140716T180000
DTEND;TZID=America/Denver:20140716T210000
END:VEVENT
END:VCALENDAR
