BEGIN:VCALENDAR
PRODID:-//eluceo/ical//2.0/EN
VERSION:2.0
CALSCALE:GREGORIAN
BEGIN:VEVENT
UID:5690a92aefeefc707fb58b887e1165af
DTSTAMP:20260421T074159Z
SUMMARY:Jewish Genealogy
DESCRIPTION:United Jewish Federation of Utah\nCalendar\nhttps://shalomutah.
 org/united-jewish-federation-of-utah-calendar/Event18\n\nLearn how to get 
 started researching your Jewish genealogy. Instructors Banai Lyn Feldstein
  and W. Todd Knowles will discuss the basics of genealogy research along w
 ith details specific to Jewish genealogy including vital records\, census 
 records\, immigrat
DTSTART;TZID=America/Denver:20140611T190000
DTEND;TZID=America/Denver:20140709T203000
END:VEVENT
END:VCALENDAR
