BEGIN:VCALENDAR
PRODID:-//eluceo/ical//2.0/EN
VERSION:2.0
CALSCALE:GREGORIAN
BEGIN:VEVENT
UID:6f637481202ad9c2d64b40fa46ba5664
DTSTAMP:20260420T182431Z
SUMMARY:Guys Night Out
DESCRIPTION:United Jewish Federation of Utah\nCalendar\nhttps://shalomutah.
 org/united-jewish-federation-of-utah-calendar/Event19\n\nIn addition to go
 od food and conversation\, we have scheduled an informative presentation b
 y Rabbi Jim Simon that you are sure to enjoy. Please invite your friends.C
 ost: $15 at the door – honor systemGuest Presenter: Rabbi Jim Simon\, In
 terim Rabbi\, Templ
DTSTART;TZID=America/Denver:20140626T183000
DTEND;TZID=America/Denver:20140626T200000
END:VEVENT
END:VCALENDAR
