BEGIN:VCALENDAR
PRODID:-//eluceo/ical//2.0/EN
VERSION:2.0
CALSCALE:GREGORIAN
BEGIN:VEVENT
UID:7b3999b57bca7cdce1e1c3497f74bc6d
DTSTAMP:20260421T194150Z
SUMMARY:Women's Lunch & Learn
DESCRIPTION:United Jewish Federation of Utah\nCalendar\nhttps://shalomutah.
 org/united-jewish-federation-of-utah-calendar/Event20\n\n&nbsp
DTSTART;TZID=America/Denver:20140723T110000
DTEND;TZID=America/Denver:20140723T130000
END:VEVENT
END:VCALENDAR
