BEGIN:VCALENDAR
PRODID:-//eluceo/ical//2.0/EN
VERSION:2.0
CALSCALE:GREGORIAN
BEGIN:VEVENT
UID:8fa757aea222e9302b18310c1ab3c5d8
DTSTAMP:20260421T144522Z
SUMMARY:United Jewish Federation of Utah Lunch and Learn
DESCRIPTION:United Jewish Federation of Utah\nCalendar\nhttps://shalomutah.
 org/united-jewish-federation-of-utah-calendar/Event21\n\nPlease join us fo
 r Lunch and Learn with Professor Jackie Osherow on Tuesday\, September 2\,
  2014\, at the home of Donna Gordon. 2632 Silverberry Court\, Park City\, 
 UT. 84098 (* Directions). Phone: 435-714-9635 \nReading Prep: We are excit
 ed to open our new se
DTSTART;TZID=America/Denver:20140902T110000
DTEND;TZID=America/Denver:20140902T130000
END:VEVENT
END:VCALENDAR
