BEGIN:VCALENDAR
PRODID:-//eluceo/ical//2.0/EN
VERSION:2.0
CALSCALE:GREGORIAN
BEGIN:VEVENT
UID:a41b7b6107ceb97a509ffdb35e312e6d
DTSTAMP:20260421T024304Z
SUMMARY:The Language of Light: Photography of the Wasatch Camera Club
DESCRIPTION:United Jewish Federation of Utah\nCalendar\nhttps://shalomutah.
 org/united-jewish-federation-of-utah-calendar/Event22\n\nThe Wasatch Camer
 a Club revisits it’s popular photography exhibit\, Language of Light\, a
 t the Jewish Community Center. The exhibit will present over 75 photograph
 s taken by club members that illuminate a variety of subjects.  The date p
 osted (September 7
DTSTART;TZID=America/Denver:20140907T160000
DTEND;TZID=America/Denver:20140907T180000
END:VEVENT
END:VCALENDAR
