BEGIN:VCALENDAR
PRODID:-//eluceo/ical//2.0/EN
VERSION:2.0
CALSCALE:GREGORIAN
BEGIN:VEVENT
UID:527eaa96b9550d9ef346523ee468da1b
DTSTAMP:20260421T024354Z
SUMMARY:Girls Night Out
DESCRIPTION:United Jewish Federation of Utah\nCalendar\nhttps://shalomutah.
 org/united-jewish-federation-of-utah-calendar/Event23\n\nPlease join us fo
 r our second United Jewish Federation of Utah “Girls’ Night Out” on 
 Thursday\, September 11\, 2014\, at the home of Joan Kottler\, 11060 South
  Trailwood Cove\, Salt Lake City\, UT  84092. Joan recommends using Map 
 Quest or Googl
DTSTART;TZID=America/Denver:20140911T190000
DTEND;TZID=America/Denver:20140911T210000
END:VEVENT
END:VCALENDAR
