BEGIN:VCALENDAR
PRODID:-//eluceo/ical//2.0/EN
VERSION:2.0
CALSCALE:GREGORIAN
BEGIN:VEVENT
UID:37f5a516c623730a86b7538f380d048c
DTSTAMP:20260421T074242Z
SUMMARY:Film: Life in Stills
DESCRIPTION:United Jewish Federation of Utah\nCalendar\nhttps://shalomutah.
 org/united-jewish-federation-of-utah-calendar/Event24\n\nBack by popular d
 emand!  Join us for a re-screening of the documentary Life in Stills\, the
  story of Miriam Weissenstien and her grandson Ben Peter's journey to save
  the legendary 'Photo House' and its nearly one million negatives document
 ing Israel's defi
DTSTART;TZID=America/Denver:20140915T183000
DTEND;TZID=America/Denver:20140915T200000
END:VEVENT
END:VCALENDAR
