BEGIN:VCALENDAR
PRODID:-//eluceo/ical//2.0/EN
VERSION:2.0
CALSCALE:GREGORIAN
BEGIN:VEVENT
UID:76c499d6f71530a4ab974be2b1497f04
DTSTAMP:20260421T024344Z
SUMMARY:Hanukkah Market 2014
DESCRIPTION:United Jewish Federation of Utah\nCalendar\nhttps://shalomutah.
 org/united-jewish-federation-of-utah-calendar/Event25\n\nThe Jewish Commun
 ity Center is hosting a Hanukkah Market on Sunday\, December 7 from 12-6 P
 M. The Hanukkah Market features local vendors of Arts and Crafts\, books a
 nd Jewish foods. The market is open to all!
DTSTART;TZID=America/Denver:20141207T120000
DTEND;TZID=America/Denver:20141207T180000
END:VEVENT
END:VCALENDAR
