BEGIN:VCALENDAR
PRODID:-//eluceo/ical//2.0/EN
VERSION:2.0
CALSCALE:GREGORIAN
BEGIN:VEVENT
UID:8d330948cf5a9a3cbd6fea3987b53e2d
DTSTAMP:20260420T182450Z
SUMMARY:UJF of UT Lunch & Learn
DESCRIPTION:United Jewish Federation of Utah\nCalendar\nhttps://shalomutah.
 org/united-jewish-federation-of-utah-calendar/Event26\n\n&nbsp
DTSTART;TZID=America/Denver:20141007T110000
DTEND;TZID=America/Denver:20141007T130000
END:VEVENT
END:VCALENDAR
