BEGIN:VCALENDAR
PRODID:-//eluceo/ical//2.0/EN
VERSION:2.0
CALSCALE:GREGORIAN
BEGIN:VEVENT
UID:0b579415e871cd2f32f9639e78919994
DTSTAMP:20260420T182511Z
SUMMARY:Annual Utah Congressional Reception and Luncheon
DESCRIPTION:United Jewish Federation of Utah\nCalendar\nhttps://shalomutah.
 org/united-jewish-federation-of-utah-calendar/Event28\n\nAIPAC Lunch at th
 e JCC with special speaker: Brian Abrahams\, AIPAC Midwest Regional Direct
 or. Title: 'Bordering on the Impossible\; Inside the Rapidly Changing Thre
 at to Israel'. Utah Congressional Delegation is invited. To register conta
 ct: Joan Alper 435
DTSTART;TZID=America/Denver:20141123T113000
DTEND;TZID=America/Denver:20141123T140000
END:VEVENT
END:VCALENDAR
