BEGIN:VCALENDAR
PRODID:-//eluceo/ical//2.0/EN
VERSION:2.0
CALSCALE:GREGORIAN
BEGIN:VEVENT
UID:bfb94fa51fd7498e09df44784a372844
DTSTAMP:20260420T182559Z
SUMMARY:The Jewish Arts Festival presents The Jewish Film Festival
DESCRIPTION:United Jewish Federation of Utah\nCalendar\nhttps://shalomutah.
 org/united-jewish-federation-of-utah-calendar/Event29\n\nNovember 8\, 6:30
 -10 PM\, Opening Night\; Reception 6:30\, Dinner from Mazza\, 7 PM\, scree
 ning of Under the Same Sun\, 8 PM \,$30.\nNovember 9\; The ZigZag Kid\, 1 
 PM\, $5. A Matter of Size\, 3 PM.\nNovember 10\; Blumenthal \, 7 PM\, $5.\
 nNovember 11\; Do You Believe in Lo
DTSTART;TZID=America/Denver:20141108T183000
DTEND;TZID=America/Denver:20141113T220000
END:VEVENT
END:VCALENDAR
