BEGIN:VCALENDAR
PRODID:-//eluceo/ical//2.0/EN
VERSION:2.0
CALSCALE:GREGORIAN
BEGIN:VEVENT
UID:a94e796f9addef6d8570d118a2f6cfd2
DTSTAMP:20260421T194159Z
SUMMARY:Kinderblock 66 movie in honor of Yom Hashoah
DESCRIPTION:United Jewish Federation of Utah\nCalendar\nhttps://shalomutah.
 org/united-jewish-federation-of-utah-calendar/Event30\n\n7pm       S
 econd screening of 'Kinderblock 66: Return to Buchenwald' with Q & A at th
 e JCC.
DTSTART;TZID=America/Denver:20140428T190000
DTEND;TZID=America/Denver:20140428T210000
END:VEVENT
END:VCALENDAR
