BEGIN:VCALENDAR
PRODID:-//eluceo/ical//2.0/EN
VERSION:2.0
CALSCALE:GREGORIAN
BEGIN:VEVENT
UID:70baaa218294a5ab794b8c2b6c53d454
DTSTAMP:20260421T074307Z
SUMMARY:Purim Adult Party
DESCRIPTION:United Jewish Federation of Utah\nCalendar\nhttps://shalomutah.
 org/united-jewish-federation-of-utah-calendar/Event4\n\nCome have fun at o
 ur Star Wars themed Purim party
DTSTART;TZID=America/Denver:20140315T210000
DTEND;TZID=America/Denver:20140315T223000
END:VEVENT
END:VCALENDAR
