BEGIN:VCALENDAR
PRODID:-//eluceo/ical//2.0/EN
VERSION:2.0
CALSCALE:GREGORIAN
BEGIN:VEVENT
UID:2c4c3b44a5ff9fc56eb40aee7208c73b
DTSTAMP:20260420T100535Z
SUMMARY:Rafi Schwartz Relious School Purim Carnival
DESCRIPTION:United Jewish Federation of Utah\nCalendar\nhttps://shalomutah.
 org/united-jewish-federation-of-utah-calendar/Event5\n\nCome to our Star W
 ars theme carnival
DTSTART;TZID=America/Denver:20140316T100000
DTEND;TZID=America/Denver:20140316T120000
END:VEVENT
END:VCALENDAR
