BEGIN:VCALENDAR
PRODID:-//eluceo/ical//2.0/EN
VERSION:2.0
CALSCALE:GREGORIAN
BEGIN:VEVENT
UID:4e853e47f2c8551f2d04e474c981636f
DTSTAMP:20260420T224818Z
SUMMARY:American West Symphony Concert
DESCRIPTION:United Jewish Federation of Utah\nCalendar\nhttps://shalomutah.
 org/united-jewish-federation-of-utah-calendar/Event6\n\nPerformance of Mah
 ler Symphony No.2\, Stravinsky's Petruschka and other selections
DTSTART;TZID=America/Denver:20140323T183000
DTEND;TZID=America/Denver:20140323T193000
END:VEVENT
END:VCALENDAR
