BEGIN:VCALENDAR
PRODID:-//eluceo/ical//2.0/EN
VERSION:2.0
CALSCALE:GREGORIAN
BEGIN:VEVENT
UID:5089dd074d2b5fda1ac3d5dcd52bc3ae
DTSTAMP:20260420T224838Z
SUMMARY:American West Symphony Concert
DESCRIPTION:United Jewish Federation of Utah\nCalendar\nhttps://shalomutah.
 org/united-jewish-federation-of-utah-calendar/Event8\n\nPerformance of Mah
 ler Symphony No.2\, Stravinsky's Petruschka and other selections
DTSTART;TZID=America/Denver:20140323T193000
DTEND;TZID=America/Denver:20140323T210000
END:VEVENT
END:VCALENDAR
