BEGIN:VCALENDAR
PRODID:-//eluceo/ical//2.0/EN
VERSION:2.0
CALSCALE:GREGORIAN
BEGIN:VEVENT
UID:a5c261ba7a604de1c9f474ce91b5546a
DTSTAMP:20260421T074257Z
SUMMARY:Geri Siegel and the Mitzvah Network Tribute Dinner
DESCRIPTION:United Jewish Federation of Utah\nCalendar\nhttps://shalomutah.
 org/united-jewish-federation-of-utah-calendar/Event9\n\nKol Ami Community 
 Dinner to Honor the Mitzvah Network: 5:30p-6:15p Schmooze 6:15p-7:30p Dinn
 er & Program 7:30p-9:00p Dancing & Fun
DTSTART;TZID=America/Denver:20140330T173000
DTEND;TZID=America/Denver:20140330T180000
END:VEVENT
END:VCALENDAR
