BEGIN:VCALENDAR
PRODID:-//eluceo/ical//2.0/EN
VERSION:2.0
CALSCALE:GREGORIAN
BEGIN:VEVENT
UID:053ab9a612897c7e79120de0762d1de9
DTSTAMP:20260421T180401Z
SUMMARY:PJ Library: Snowflake Spectacular
DESCRIPTION:United Jewish Federation of Utah\nCalendar\nhttps://shalomutah.
 org/united-jewish-federation-of-utah-calendar/PJLibrary\n\nI'mÂ Maya\,Â th
 eÂ newÂ PJÂ LibraryÂ professionalÂ hereÂ inÂ UtahÂ andÂ I'mÂ soÂ excitedÂ 
 toÂ meetÂ allÂ ofÂ you!\n\nFamiliesÂ areÂ welcomeÂ toÂ joinÂ usÂ forÂ aÂ h
 eartwarmingÂ winterÂ event!Â ComeÂ enjoyÂ crafts\,Â storyÂ time\,Â communi
 tyÂ andÂ anÂ activityÂ toÂ helpÂ usÂ getÂ toÂ knowÂ eachÂ otherÂ better!Â 
 LightÂ snacksÂ andÂ warmÂ drinksÂ provided.Â \n\nThisÂ time\,Â weÂ willÂ l
 earnÂ aboutÂ theÂ JewishÂ valueÂ ofÂ TzedakahÂ (givingÂ toÂ others)Â byÂ h
 elpingÂ toÂ makeÂ otherÂ people'sÂ winterÂ...
DTSTART;TZID=America/Denver:20250126T130000
DTEND;TZID=America/Denver:20250126T150000
END:VEVENT
END:VCALENDAR
