BEGIN:VCALENDAR
PRODID:-//eluceo/ical//2.0/EN
VERSION:2.0
CALSCALE:GREGORIAN
BEGIN:VEVENT
UID:12b15c63f97768c306963b231a3c7895
DTSTAMP:20260420T121624Z
SUMMARY:A Magical Chanukah Celebration
DESCRIPTION:United Jewish Federation of Utah\nCalendar\nhttps://shalomutah.
 org/united-jewish-federation-of-utah-calendar/a-magical-chanukah-celebrati
 on-1606754636\n\nJoin the Kol Ami community for a special night as we cele
 brate\nChanukah with havdalah\, lighting the Chanukiah\, and some\nmagical
  entertainment with Paul Draper.\n\nPaul Draper acts as your guide to the 
 secrets of human nature and\nwonders of the universe\, breaking the laws o
 f physics and defying\nthe rules of reality. Become an expert in persuasio
 n and deception\nas he demonstrates how to determine who has something to 
 hide.\nWatch in disbelief as he bends metal and minds at will. Draper wil.
 ..
DTSTART;TZID=America/Denver:20201212T180000
DTEND;TZID=America/Denver:20201212T190000
END:VEVENT
END:VCALENDAR
