BEGIN:VCALENDAR
PRODID:-//eluceo/ical//2.0/EN
VERSION:2.0
CALSCALE:GREGORIAN
BEGIN:VEVENT
UID:092b378280e146a5a6db81436dbf6d87
DTSTAMP:20260420T010651Z
SUMMARY:A Night with Naomi Zeveloff
DESCRIPTION:United Jewish Federation of Utah\nCalendar\nhttps://shalomutah.
 org/united-jewish-federation-of-utah-calendar/a-night-with-naomi-zeveloff\
 n\nJoin us for an entertaining night with Naomi Zeveloff.\n\nNaomi has a M
 asters in Political Journalism from\nColumbia University\, Naomi Zeveloff 
 served\nas The Forward’s Middle East correspondent\nbased in Israel from
  2014 to 2017\, winning a\nprestigious SPJ Sigma Delta Chi award for\nher 
 coverage. As the only Forward staffer\nfrom Utah (where she attended relig
 ious\nschool at Congregation Kol Ami)\, Naomi was\nresponsible for bringin
 g Western Wear\nWednesdays to the Forward office.
DTSTART;TZID=America/Denver:20170810T190000
DTEND;TZID=America/Denver:20170810T200000
END:VEVENT
END:VCALENDAR
