BEGIN:VCALENDAR
PRODID:-//eluceo/ical//2.0/EN
VERSION:2.0
CALSCALE:GREGORIAN
BEGIN:VEVENT
UID:095f6ca63e069938694a30ccb34321a7
DTSTAMP:20260420T041525Z
SUMMARY:A Rockin' Moroccan Shabbat
DESCRIPTION:United Jewish Federation of Utah\nCalendar\nhttps://shalomutah.
 org/united-jewish-federation-of-utah-calendar/a-rockin-moroccan-shabbat-14
 59191634\n\nJoin together with other Young Jewish Adults from across Utah\
 , for a delicious home-cooked Moroccan-style Shabbat dinner and social eve
 ning! For Young Jewish men & women\, ages 21-35.Friday night\, April 8th\,
  2016 Services at 7:30\, Dinner at 8:30 Tickets: $15 per person\, $25 per 
 couple\, $50 sponsor RSVP today at jewishutah.com/moroccan!For more inform
 ation\, email avremi@jewishutah.com
DTSTART;TZID=America/Denver:20160408T203000
DTEND;TZID=America/Denver:20160408T235500
END:VEVENT
END:VCALENDAR
