BEGIN:VCALENDAR
PRODID:-//eluceo/ical//2.0/EN
VERSION:2.0
CALSCALE:GREGORIAN
BEGIN:VEVENT
UID:5cfd03c3e9c88b5c93941b6b650d6baa
DTSTAMP:20260420T130806Z
SUMMARY:A Taste of Passover
DESCRIPTION:United Jewish Federation of Utah\nCalendar\nhttps://shalomutah.
 org/united-jewish-federation-of-utah-calendar/a-taste-of-passover-15506116
 40\n\nLove to cook? You’re invited to Congregation Kol Ami for our first
  Passover Cooking class (complete with wine pairings!)\n\nLearn the ins an
 d outs of Kosher for Passover wine (and wine pairings\, too!) with Park Ci
 ty Sommelier John Davis.\n\nOur menu features: Vegetarian Matzo Ball Soup\
 , Potato Kugel\, Roasted Veggies\, Meringue cookies and of course\, Charos
 et (nut-free!)\n\nWe’re looking forward to a fun and tasty evening-
DTSTART;TZID=America/Denver:20190331T173000
DTEND;TZID=America/Denver:20190331T193000
END:VEVENT
END:VCALENDAR
