BEGIN:VCALENDAR
PRODID:-//eluceo/ical//2.0/EN
VERSION:2.0
CALSCALE:GREGORIAN
BEGIN:VEVENT
UID:0420eb2ab753c585cb84b0526d30d60b
DTSTAMP:20260422T072753Z
SUMMARY:A Utah Chanukah Celebration
DESCRIPTION:United Jewish Federation of Utah\nCalendar\nhttps://shalomutah.
 org/united-jewish-federation-of-utah-calendar/a-utah-chanukah-celebration-
 1574887803\n\nGrand Menorah Lighting and Chanukah Celebration\nMusical Per
 formace by Deondra Brown Nielsen\nLatkes and Jelly Donuts by Cuisine Unlim
 ited
DTSTART;TZID=America/Denver:20191222T170000
DTEND;TZID=America/Denver:20191222T190000
END:VEVENT
END:VCALENDAR
