BEGIN:VCALENDAR
PRODID:-//eluceo/ical//2.0/EN
VERSION:2.0
CALSCALE:GREGORIAN
BEGIN:VEVENT
UID:c7b1c71bff4f03b4bf337db353f370ee
DTSTAMP:20260422T040425Z
SUMMARY:A Yom Ha'Zikaron Memorial Ceremony with MASA
DESCRIPTION:United Jewish Federation of Utah\nCalendar\nhttps://shalomutah.
 org/united-jewish-federation-of-utah-calendar/a-yom-hazikaron-memorial-cer
 emony-with-masa-1586907037\n\nJoin MASA fellows\, alumni\, partners and J
 ewish communities around the world for a live streamed global ceremony in 
 honor of Israel’s fallen soldiers and victims of terror.\n\nRegister her
 e:\nhttps://www.jewishtogether.org/virtual-meetups/1250-pm-a-yom-hazikaron
 -memorial-ceremony-with-masa-348806
DTSTART;TZID=America/Denver:20200427T105000
DTEND;TZID=America/Denver:20200427T120000
END:VEVENT
END:VCALENDAR
