BEGIN:VCALENDAR
PRODID:-//eluceo/ical//2.0/EN
VERSION:2.0
CALSCALE:GREGORIAN
BEGIN:VEVENT
UID:5b3463810a848e510f7a1e5049d14374
DTSTAMP:20260422T074250Z
SUMMARY:Adult Education: Balancing History & Hope
DESCRIPTION:United Jewish Federation of Utah\nCalendar\nhttps://shalomutah.
 org/united-jewish-federation-of-utah-calendar/adult-education-balancing-hi
 story--hope-1483641131\n\nBALANCING HISTORY AND HOPE:\n3000 Years of Jewis
 h Storytelling\n\nStarting in February\, we'll talk about Jewish stories\n
 and what they tell us about the People of the Book.
DTSTART;TZID=America/Denver:20170202T190000
DTEND;TZID=America/Denver:20170302T190000
END:VEVENT
END:VCALENDAR
