BEGIN:VCALENDAR
PRODID:-//eluceo/ical//2.0/EN
VERSION:2.0
CALSCALE:GREGORIAN
BEGIN:VEVENT
UID:5016e9c75592abf0facea44aeee72194
DTSTAMP:20260421T090653Z
SUMMARY:Adult Ed Pop Up Class with Rabbi David Levinsky
DESCRIPTION:United Jewish Federation of Utah\nCalendar\nhttps://shalomutah.
 org/united-jewish-federation-of-utah-calendar/adult-education-class-with-r
 abbi-david-levinsky-1542311650\n\nThe Thought of Mordecai Kaplan\nThe Relu
 ctant Founder of Reconstructionist Judaism\nTaught by Rabbi David Levinsky
 \n\nDo you question whether God answers our prayers? Do you believe that J
 ewish culture is as important as Jewish religion? Do you believe that huma
 nity is the force that enacts the improvement of the world?\n\nThen come a
 nd hear how Rabbi Mordecai Kaplan brought these ideas into Judaism.
DTSTART;TZID=America/Denver:20181213T190000
DTEND;TZID=America/Denver:20181213T210000
END:VEVENT
END:VCALENDAR
