BEGIN:VCALENDAR
PRODID:-//eluceo/ical//2.0/EN
VERSION:2.0
CALSCALE:GREGORIAN
BEGIN:VEVENT
UID:4331a88de578ddaa192e1e56466e7912
DTSTAMP:20260421T155532Z
SUMMARY:Adult Hanukkah Luncheon
DESCRIPTION:United Jewish Federation of Utah\nCalendar\nhttps://shalomutah.
 org/united-jewish-federation-of-utah-calendar/adult-hanukkah-luncheon-1574
 888118\n\nEnjoy an afternoon with friends\, including the traditional stor
 y of Hanukkah\, and a delicious meal with latkes and kugel.
DTSTART;TZID=America/Denver:20191219T113000
DTEND;TZID=America/Denver:20191219T130000
END:VEVENT
END:VCALENDAR
