BEGIN:VCALENDAR
PRODID:-//eluceo/ical//2.0/EN
VERSION:2.0
CALSCALE:GREGORIAN
BEGIN:VEVENT
UID:d382d9bfc3075a49ed1df54d4f3f4395
DTSTAMP:20260421T102910Z
SUMMARY:AIPAC Annual Campaign Kickoff Event
DESCRIPTION:United Jewish Federation of Utah\nCalendar\nhttps://shalomutah.
 org/united-jewish-federation-of-utah-calendar/aipac-annual-campaign-kickof
 f-event-1600819421\n\nThis event is by invitation only. For more informati
 on\, please email spaevents@aipac.org.
DTSTART;TZID=America/Denver:20201029T200000
DTEND;TZID=America/Denver:20201029T200000
END:VEVENT
END:VCALENDAR
