BEGIN:VCALENDAR
PRODID:-//eluceo/ical//2.0/EN
VERSION:2.0
CALSCALE:GREGORIAN
BEGIN:VEVENT
UID:69bf47e75270890b3b99389f18c82c8d
DTSTAMP:20260420T144323Z
SUMMARY:AIPAC Annual Congregational Reception and Luncheon
DESCRIPTION:United Jewish Federation of Utah\nCalendar\nhttps://shalomutah.
 org/united-jewish-federation-of-utah-calendar/aipac-annual-congregational\
 n\nAIPAC MOUNTAIN WEST REGION\n\n\ncordially invites you to the\n\nUTAH AN
 NUAL CONGRESSIONAL RECEPTION & LUNCHEON\n\nNew Leaders\, New Challenges\, 
 New Times\n\nSunday\, November 20\, 2016\n11:30 a.m - 2:00 p.m. Reception 
 and Luncheon\n\nJewish Community Center\n2 North Medical Drive\, Salt Lake
  City\, UT\n\n\n\n\n\n \n\n\nFeaturing\nBrad Gordon\nAIPAC\, Director of 
 Policy and Government Affairs\n\n\n\n\n\nMembers of the Utah Congressional
  Delegation have been invited.\n...
DTSTART;TZID=America/Denver:20161120T110000
DTEND;TZID=America/Denver:20161120T143000
END:VEVENT
END:VCALENDAR
