BEGIN:VCALENDAR
PRODID:-//eluceo/ical//2.0/EN
VERSION:2.0
CALSCALE:GREGORIAN
BEGIN:VEVENT
UID:a9046161974680b26357fef9b297bbe0
DTSTAMP:20260421T151523Z
SUMMARY:AIPAC Annual Luncheon
DESCRIPTION:United Jewish Federation of Utah\nCalendar\nhttps://shalomutah.
 org/united-jewish-federation-of-utah-calendar/aipac-annual-luncheon\n\nAn 
 interesting meeting! Come and support America's Pro-Israel Lobby organizat
 ion. The most important organization affecting America's relationship with
  Israel. Hear how AIPAC is assuring critical security assistance to Israel
  each year to help Israel face growing threat\; working to thwart Iran's n
 uclear weapons ambitions\; building American support for Israel's quest fo
 r peace and its right to self-defense\; ensuring that aid to Palestenians 
 is tied to their persuit of peace through the negotiat...
DTSTART;TZID=America/Denver:20171119T113000
DTEND;TZID=America/Denver:20171119T140000
END:VEVENT
END:VCALENDAR
