BEGIN:VCALENDAR
PRODID:-//eluceo/ical//2.0/EN
VERSION:2.0
CALSCALE:GREGORIAN
BEGIN:VEVENT
UID:7f1ad5f4a7d0e5acd9b79a7189aafdf6
DTSTAMP:20260422T071207Z
SUMMARY:AIPAC Annual Southern Pacific Kickoff Program (Virtual)
DESCRIPTION:United Jewish Federation of Utah\nCalendar\nhttps://shalomutah.
 org/united-jewish-federation-of-utah-calendar/aipac-annual-southern-pacifi
 c-kickoff-program-virtual-1629743148\n\nThis virtual event is by invitatio
 n only. For more info\, please email SPAEvents@aipac.org.
DTSTART;TZID=America/Denver:20211027T200000
DTEND;TZID=America/Denver:20211027T220000
END:VEVENT
END:VCALENDAR
