BEGIN:VCALENDAR
PRODID:-//eluceo/ical//2.0/EN
VERSION:2.0
CALSCALE:GREGORIAN
BEGIN:VEVENT
UID:a2fb041b935bf157be7dd44ce99372fa
DTSTAMP:20260420T010612Z
SUMMARY:AIPAC December Leadership Event
DESCRIPTION:United Jewish Federation of Utah\nCalendar\nhttps://shalomutah.
 org/united-jewish-federation-of-utah-calendar/aipac-december-leadership-ev
 ent-1606336001\n\nThis event is by invitation only for President's Cabinet
 \, Chairman's Council and Minyan members. For more information\, please em
 ail spaevents@aipac.org.
DTSTART;TZID=America/Denver:20201221T120000
DTEND;TZID=America/Denver:20201221T130000
END:VEVENT
END:VCALENDAR
