BEGIN:VCALENDAR
PRODID:-//eluceo/ical//2.0/EN
VERSION:2.0
CALSCALE:GREGORIAN
BEGIN:VEVENT
UID:5ee56f8a83c9c93dcd92ed2593977f87
DTSTAMP:20260421T005215Z
SUMMARY:AIPAC Executive Insights: The State of the U.S.-Israel Relationship
DESCRIPTION:United Jewish Federation of Utah\nCalendar\nhttps://shalomutah.
 org/united-jewish-federation-of-utah-calendar/aipac-executive-insights-the
 -state-of-the-us-israel-relationship-1597091880\n\nThis is a virtual\, exc
 lusive AIPAC Southern Pacific Region Leadership event. For more info\, ple
 ase email SPAEvents@aipac.org or contact the AIPAC office at: 323-937-1184
 .
DTSTART;TZID=America/Denver:20200827T183000
DTEND;TZID=America/Denver:20200827T183000
END:VEVENT
END:VCALENDAR
