BEGIN:VCALENDAR
PRODID:-//eluceo/ical//2.0/EN
VERSION:2.0
CALSCALE:GREGORIAN
BEGIN:VEVENT
UID:c00073111459e6634f8f4d5f102821f9
DTSTAMP:20260420T035100Z
SUMMARY:AIPAC National Club Member Program
DESCRIPTION:United Jewish Federation of Utah\nCalendar\nhttps://shalomutah.
 org/united-jewish-federation-of-utah-calendar/aipac-national-club-member-p
 rogram-1611686763\n\nThis virtual event is by invitation only. For more in
 fo\, please email SPAEvents@aipac.org or contact the AIPAC office at: 323-
 937-1184.
DTSTART;TZID=America/Denver:20210303T200000
DTEND;TZID=America/Denver:20210303T210000
END:VEVENT
END:VCALENDAR
