BEGIN:VCALENDAR
PRODID:-//eluceo/ical//2.0/EN
VERSION:2.0
CALSCALE:GREGORIAN
BEGIN:VEVENT
UID:00ccf851717b83566f38a471f774ea9e
DTSTAMP:20260420T154103Z
SUMMARY:AIPAC National Club Member Program
DESCRIPTION:United Jewish Federation of Utah\nCalendar\nhttps://shalomutah.
 org/united-jewish-federation-of-utah-calendar/aipac-national-club-member-p
 rogram-1611687110\n\nThis virtual event is by invitation only. For more in
 fo\, please email SPAEvents@aipac.org or contact the AIPAC office at: 323-
 937-1184.
DTSTART;TZID=America/Denver:20210302T193000
DTEND;TZID=America/Denver:20210302T203000
END:VEVENT
END:VCALENDAR
