BEGIN:VCALENDAR
PRODID:-//eluceo/ical//2.0/EN
VERSION:2.0
CALSCALE:GREGORIAN
BEGIN:VEVENT
UID:dfb5dab052c0e407a261c451c328dfc8
DTSTAMP:20260420T011427Z
SUMMARY:AIPAC National Wall Street & Finance Industry Event
DESCRIPTION:United Jewish Federation of Utah\nCalendar\nhttps://shalomutah.
 org/united-jewish-federation-of-utah-calendar/aipac-national-wall-street--
 finance-industry-event-1620843844\n\nThis virtual event is by invitation o
 nly. For more information\, please contact spaevents@aipac.org.
DTSTART;TZID=America/Denver:20210616T180000
DTEND;TZID=America/Denver:20210616T190000
END:VEVENT
END:VCALENDAR
